BEGIN:VCALENDAR
VERSION:2.0
PRODID:-//FC1869//CS
BEGIN:VEVENT
DTSTAMP:20260419T141400Z
DTSTART:20140603T181500Z
DTEND:20140603T191500Z
SUMMARY:10. GFC Regent B - Tamu Pua 1. FC B
LOCATION:P1
UID:69e4e3281cf99@FC1869
END:VEVENT
END:VCALENDAR