BEGIN:VCALENDAR
VERSION:2.0
PRODID:-//FC1869//CS
BEGIN:VEVENT
DTSTAMP:20260419T141352Z
DTSTART:20140617T181500Z
DTEND:20140617T191500Z
SUMMARY:11. Vidím čaj - GFC Regent B
LOCATION:P3
UID:69e4e320b6b2f@FC1869
END:VEVENT
END:VCALENDAR