BEGIN:VCALENDAR
VERSION:2.0
PRODID:-//FC1869//CS
BEGIN:VEVENT
DTSTAMP:20260419T141359Z
DTSTART:20140617T181500Z
DTEND:20140617T191500Z
SUMMARY:11. S nadhledem - Parní válec
LOCATION:MOTO2
UID:69e4e3271cd8f@FC1869
END:VEVENT
END:VCALENDAR