BEGIN:VCALENDAR
VERSION:2.0
PRODID:-//FC1869//CS
BEGIN:VEVENT
DTSTAMP:20260419T132400Z
DTSTART:20140617T181500Z
DTEND:20140617T191500Z
SUMMARY:11. Tamu Pua 1. FC B - Netopýr TFC
LOCATION:P2
UID:69e4d770bb7ad@FC1869
END:VEVENT
END:VCALENDAR