BEGIN:VCALENDAR
VERSION:2.0
PRODID:-//FC1869//CS
BEGIN:VEVENT
DTSTAMP:20260419T124323Z
DTSTART:20140617T181500Z
DTEND:20140617T191500Z
SUMMARY:11. Rosengart FC - Pigs FC
LOCATION:P1
UID:69e4cdebdaa27@FC1869
END:VEVENT
END:VCALENDAR