BEGIN:VCALENDAR
VERSION:2.0
PRODID:-//FC1869//CS
BEGIN:VEVENT
DTSTAMP:20260419T141642Z
DTSTART:20140617T181500Z
DTEND:20140617T191500Z
SUMMARY:11. Real Sharks - South Rise Again FC
LOCATION:MOTO1
UID:69e4e3caee5fa@FC1869
END:VEVENT
END:VCALENDAR