BEGIN:VCALENDAR
VERSION:2.0
PRODID:-//FC1869//CS
BEGIN:VEVENT
DTSTAMP:20260419T124346Z
DTSTART:20151202T191500Z
DTEND:20151202T201500Z
SUMMARY:11. FC 1869 - Torpédo Hulín FC
LOCATION:P1
UID:69e4ce0202e13@FC1869
END:VEVENT
END:VCALENDAR