BEGIN:VCALENDAR
VERSION:2.0
PRODID:-//FC1869//CS
BEGIN:VEVENT
DTSTAMP:20260419T124444Z
DTSTART:20150903T160000Z
DTEND:20150903T170000Z
SUMMARY:1. A - klub 90 - Torpédo Hulín FC
LOCATION:SCBEC
UID:69e4ce3c9a2e4@FC1869
END:VEVENT
END:VCALENDAR