BEGIN:VCALENDAR
VERSION:2.0
PRODID:-//FC1869//CS
BEGIN:VEVENT
DTSTAMP:20260419T124154Z
DTSTART:20151001T170000Z
DTEND:20151001T180000Z
SUMMARY:4. Torpédo Hulín FC - Sean team B
LOCATION:P3
UID:69e4cd921c59b@FC1869
END:VEVENT
END:VCALENDAR