BEGIN:VCALENDAR
VERSION:2.0
PRODID:-//FC1869//CS
BEGIN:VEVENT
DTSTAMP:20260419T124155Z
DTSTART:20151012T161500Z
DTEND:20151012T171500Z
SUMMARY:6. Torpédo Hulín FC - Sporčestr City FC  ! možná kolize barvy dresů !
LOCATION:NOVOB
UID:69e4cd9397475@FC1869
END:VEVENT
END:VCALENDAR