BEGIN:VCALENDAR
VERSION:2.0
PRODID:-//FC1869//CS
BEGIN:VEVENT
DTSTAMP:20260419T124147Z
DTSTART:20151105T183000Z
DTEND:20151105T193000Z
SUMMARY:8. Torpédo Hulín FC - Tajfun AC
LOCATION:ZAK
UID:69e4cd8b2e412@FC1869
END:VEVENT
END:VCALENDAR