BEGIN:VCALENDAR
VERSION:2.0
PRODID:-//FC1869//CS
BEGIN:VEVENT
DTSTAMP:20260419T145200Z
DTSTART:20230326T141500Z
DTEND:20230326T151500Z
SUMMARY:Pískání (HL 5. H Na zdraví p.Macháčka - Drsný šrouby)
LOCATION:P2
UID:69e4ec10bb454@FC1869
END:VEVENT
END:VCALENDAR