BEGIN:VCALENDAR
VERSION:2.0
PRODID:-//FC1869//CS
BEGIN:VEVENT
DTSTAMP:20260419T145208Z
DTSTART:20230326T153000Z
DTEND:20230326T163000Z
SUMMARY:Pískání (HL 7. L Beerchester United - Opat Praha FC)
LOCATION:P2
UID:69e4ec189a607@FC1869
END:VEVENT
END:VCALENDAR