BEGIN:VCALENDAR
VERSION:2.0
PRODID:-//FC1869//CS
BEGIN:VEVENT
DTSTAMP:20260419T145103Z
DTSTART:20230416T164500Z
DTEND:20230416T174500Z
SUMMARY:Pískání (HL 7. L SoClose United - Opat Praha FC)
LOCATION:P2
UID:69e4ebd71cb5d@FC1869
END:VEVENT
END:VCALENDAR