BEGIN:VCALENDAR
VERSION:2.0
PRODID:-//FC1869//CS
BEGIN:VEVENT
DTSTAMP:20260419T145201Z
DTSTART:20230416T180000Z
DTEND:20230416T190000Z
SUMMARY:Pískání (HL 4. F Atomovej brouk B - Brazzers Praha FC B)
LOCATION:P2
UID:69e4ec11dd8b2@FC1869
END:VEVENT
END:VCALENDAR