BEGIN:VCALENDAR
VERSION:2.0
PRODID:-//FC1869//CS
BEGIN:VEVENT
DTSTAMP:20260419T145016Z
DTSTART:20200319T170000Z
DTEND:20200319T180000Z
SUMMARY:1. FC 1869 - BP AC
LOCATION:MALES
UID:69e4eba86976e@FC1869
END:VEVENT
END:VCALENDAR