BEGIN:VCALENDAR
VERSION:2.0
PRODID:-//FC1869//CS
BEGIN:VEVENT
DTSTAMP:20260419T145116Z
DTSTART:20230508T164500Z
DTEND:20230508T174500Z
SUMMARY:Pískání (HL 6. K Deportivo bez Coruna B - SAS fans)
LOCATION:P2
UID:69e4ebe411998@FC1869
END:VEVENT
END:VCALENDAR