BEGIN:VCALENDAR
VERSION:2.0
PRODID:-//FC1869//CS
BEGIN:VEVENT
DTSTAMP:20260419T121849Z
DTSTART:20200331T161500Z
DTEND:20200331T171500Z
SUMMARY:2. Strašnická SK B - BP AC
LOCATION:PRKOP
UID:69e4c82943b6c@FC1869
END:VEVENT
END:VCALENDAR