BEGIN:VCALENDAR
VERSION:2.0
PRODID:-//FC1869//CS
BEGIN:VEVENT
DTSTAMP:20260419T145115Z
DTSTART:20230508T180000Z
DTEND:20230508T190000Z
SUMMARY:Pískání (HL 4. F Atomovej brouk B - Úžas 1.FFS)
LOCATION:P2
UID:69e4ebe3283ff@FC1869
END:VEVENT
END:VCALENDAR