BEGIN:VCALENDAR
VERSION:2.0
PRODID:-//FC1869//CS
BEGIN:VEVENT
DTSTAMP:20260419T132802Z
DTSTART:20200416T181500Z
DTEND:20200416T191500Z
SUMMARY:4. Brosway team - Cavemen FC
LOCATION:MIKU1
UID:69e4d862b7086@FC1869
END:VEVENT
END:VCALENDAR