BEGIN:VCALENDAR
VERSION:2.0
PRODID:-//FC1869//CS
BEGIN:VEVENT
DTSTAMP:20260419T145017Z
DTSTART:20200421T161500Z
DTEND:20200421T171500Z
SUMMARY:5. BP AC - Napoleoni
LOCATION:PRKOP
UID:69e4eba953a2c@FC1869
END:VEVENT
END:VCALENDAR