BEGIN:VCALENDAR
VERSION:2.0
PRODID:-//FC1869//CS
BEGIN:VEVENT
DTSTAMP:20260419T121849Z
DTSTART:20200521T183000Z
DTEND:20200521T193000Z
SUMMARY:8. Strašnická SK B - Napoleoni
LOCATION:STER2
UID:69e4c8291ce57@FC1869
END:VEVENT
END:VCALENDAR