BEGIN:VCALENDAR
VERSION:2.0
PRODID:-//FC1869//CS
BEGIN:VEVENT
DTSTAMP:20260419T132637Z
DTSTART:20200604T181500Z
DTEND:20200604T191500Z
SUMMARY:9. Liviroff SC - Brosway team
LOCATION:MIKU2
UID:69e4d80dcac9a@FC1869
END:VEVENT
END:VCALENDAR