BEGIN:VCALENDAR
VERSION:2.0
PRODID:-//FC1869//CS
BEGIN:VEVENT
DTSTAMP:20260419T132721Z
DTSTART:20200611T181500Z
DTEND:20200611T191500Z
SUMMARY:10. Brosway team - Napoleoni
LOCATION:MIKU2
UID:69e4d8392cd99@FC1869
END:VEVENT
END:VCALENDAR