BEGIN:VCALENDAR
VERSION:2.0
PRODID:-//FC1869//CS
BEGIN:VEVENT
DTSTAMP:20260419T132334Z
DTSTART:20230323T170000Z
DTEND:20230323T180000Z
SUMMARY:1. FC FC - Měcholupská střeva
LOCATION:HANSP
UID:69e4d75671cd2@FC1869
END:VEVENT
END:VCALENDAR