BEGIN:VCALENDAR
VERSION:2.0
PRODID:-//FC1869//CS
BEGIN:VEVENT
DTSTAMP:20260419T132333Z
DTSTART:20230323T181500Z
DTEND:20230323T191500Z
SUMMARY:1. Blaničtí junáčci - Talismans
LOCATION:SANC1
UID:69e4d755eefe8@FC1869
END:VEVENT
END:VCALENDAR