BEGIN:VCALENDAR
VERSION:2.0
PRODID:-//FC1869//CS
BEGIN:VEVENT
DTSTAMP:20260419T132549Z
DTSTART:20230323T181500Z
DTEND:20230323T191500Z
SUMMARY:1. Deers FC - Rychlí banáni
LOCATION:STER2
UID:69e4d7ddc96a9@FC1869
END:VEVENT
END:VCALENDAR