BEGIN:VCALENDAR
VERSION:2.0
PRODID:-//FC1869//CS
BEGIN:VEVENT
DTSTAMP:20260419T132401Z
DTSTART:20230323T194500Z
DTEND:20230323T204500Z
SUMMARY:1. Panteři Buštěhrad - Viktoria Bítovská B
LOCATION:CESMI
UID:69e4d771edfb5@FC1869
END:VEVENT
END:VCALENDAR