BEGIN:VCALENDAR
VERSION:2.0
PRODID:-//FC1869//CS
BEGIN:VEVENT
DTSTAMP:20260419T132548Z
DTSTART:20230327T150000Z
DTEND:20230327T160000Z
SUMMARY:2. Rychlí banáni - FC 1869
LOCATION:DEKAN
UID:69e4d7dcb3243@FC1869
END:VEVENT
END:VCALENDAR