BEGIN:VCALENDAR
VERSION:2.0
PRODID:-//FC1869//CS
BEGIN:VEVENT
DTSTAMP:20260419T132627Z
DTSTART:20230330T160000Z
DTEND:20230330T170000Z
SUMMARY:2. Viktoria Bítovská B - Lord Maguire
LOCATION:HRAB1
UID:69e4d8033b1ba@FC1869
END:VEVENT
END:VCALENDAR