BEGIN:VCALENDAR
VERSION:2.0
PRODID:-//FC1869//CS
BEGIN:VEVENT
DTSTAMP:20260419T145037Z
DTSTART:20230330T171500Z
DTEND:20230330T181500Z
SUMMARY:2. Talismans - Deers FC
LOCATION:SANC1
UID:69e4ebbd55204@FC1869
END:VEVENT
END:VCALENDAR