BEGIN:VCALENDAR
VERSION:2.0
PRODID:-//FC1869//CS
BEGIN:VEVENT
DTSTAMP:20260419T132628Z
DTSTART:20230330T184500Z
DTEND:20230330T194500Z
SUMMARY:2. Panteři Buštěhrad - Blaničtí junáčci
LOCATION:CESMI
UID:69e4d8042a066@FC1869
END:VEVENT
END:VCALENDAR