BEGIN:VCALENDAR
VERSION:2.0
PRODID:-//FC1869//CS
BEGIN:VEVENT
DTSTAMP:20260419T132419Z
DTSTART:20230406T160000Z
DTEND:20230406T170000Z
SUMMARY:3. Blaničtí junáčci - Viktoria Bítovská B
LOCATION:HRAB1
UID:69e4d783ab097@FC1869
END:VEVENT
END:VCALENDAR