BEGIN:VCALENDAR
VERSION:2.0
PRODID:-//FC1869//CS
BEGIN:VEVENT
DTSTAMP:20260419T132442Z
DTSTART:20230406T160000Z
DTEND:20230406T170000Z
SUMMARY:3. FC FC - Rychlí banáni
LOCATION:HANSP
UID:69e4d79ac5f80@FC1869
END:VEVENT
END:VCALENDAR