BEGIN:VCALENDAR
VERSION:2.0
PRODID:-//FC1869//CS
BEGIN:VEVENT
DTSTAMP:20260419T132549Z
DTSTART:20230406T171500Z
DTEND:20230406T181500Z
SUMMARY:3. FC 1869 - Talismans
LOCATION:SANC1
UID:69e4d7dd3936f@FC1869
END:VEVENT
END:VCALENDAR