BEGIN:VCALENDAR
VERSION:2.0
PRODID:-//FC1869//CS
BEGIN:VEVENT
DTSTAMP:20260419T132443Z
DTSTART:20230406T184500Z
DTEND:20230406T194500Z
SUMMARY:3. Deers FC - Panteři Buštěhrad
LOCATION:CESMI
UID:69e4d79ba74dd@FC1869
END:VEVENT
END:VCALENDAR