BEGIN:VCALENDAR
VERSION:2.0
PRODID:-//FC1869//CS
BEGIN:VEVENT
DTSTAMP:20260419T132807Z
DTSTART:20230406T184500Z
DTEND:20230406T194500Z
SUMMARY:3. Lord Maguire - Měcholupská střeva
LOCATION:ARIT
UID:69e4d867bbe54@FC1869
END:VEVENT
END:VCALENDAR