BEGIN:VCALENDAR
VERSION:2.0
PRODID:-//FC1869//CS
BEGIN:VEVENT
DTSTAMP:20260419T132420Z
DTSTART:20230413T171500Z
DTEND:20230413T181500Z
SUMMARY:4. Talismans - FC FC
LOCATION:SANC1
UID:69e4d7847e48f@FC1869
END:VEVENT
END:VCALENDAR