BEGIN:VCALENDAR
VERSION:2.0
PRODID:-//FC1869//CS
BEGIN:VEVENT
DTSTAMP:20260419T132556Z
DTSTART:20230420T160000Z
DTEND:20230420T170000Z
SUMMARY:4. Viktoria Bítovská B - Měcholupská střeva
LOCATION:SANC1
UID:69e4d7e462e27@FC1869
END:VEVENT
END:VCALENDAR