BEGIN:VCALENDAR
VERSION:2.0
PRODID:-//FC1869//CS
BEGIN:VEVENT
DTSTAMP:20260419T132720Z
DTSTART:20230420T160000Z
DTEND:20230420T170000Z
SUMMARY:4. Blaničtí junáčci - Deers FC
LOCATION:STER3
UID:69e4d8383bcb9@FC1869
END:VEVENT
END:VCALENDAR