BEGIN:VCALENDAR
VERSION:2.0
PRODID:-//FC1869//CS
BEGIN:VEVENT
DTSTAMP:20260419T132243Z
DTSTART:20230425T171500Z
DTEND:20230425T181500Z
SUMMARY:5. Lord Maguire - Rychlí banáni
LOCATION:MOTO4
UID:69e4d72301d14@FC1869
END:VEVENT
END:VCALENDAR