BEGIN:VCALENDAR
VERSION:2.0
PRODID:-//FC1869//CS
BEGIN:VEVENT
DTSTAMP:20260419T132627Z
DTSTART:20230425T183000Z
DTEND:20230425T193000Z
SUMMARY:5. FC 1869 - Blaničtí junáčci
LOCATION:SANC2
UID:69e4d803a0d1f@FC1869
END:VEVENT
END:VCALENDAR