BEGIN:VCALENDAR
VERSION:2.0
PRODID:-//FC1869//CS
BEGIN:VEVENT
DTSTAMP:20260419T132548Z
DTSTART:20230426T183000Z
DTEND:20230426T193000Z
SUMMARY:5. Deers FC - Viktoria Bítovská B
LOCATION:STER3
UID:69e4d7dc66b35@FC1869
END:VEVENT
END:VCALENDAR