BEGIN:VCALENDAR
VERSION:2.0
PRODID:-//FC1869//CS
BEGIN:VEVENT
DTSTAMP:20260419T132401Z
DTSTART:20230427T184500Z
DTEND:20230427T194500Z
SUMMARY:5. FC FC - Panteři Buštěhrad
LOCATION:CESMI
UID:69e4d771741f7@FC1869
END:VEVENT
END:VCALENDAR