BEGIN:VCALENDAR
VERSION:2.0
PRODID:-//FC1869//CS
BEGIN:VEVENT
DTSTAMP:20260419T132638Z
DTSTART:20230504T160000Z
DTEND:20230504T170000Z
SUMMARY:6. Deers FC - FC 1869
LOCATION:SANC1
UID:69e4d80e512a0@FC1869
END:VEVENT
END:VCALENDAR