BEGIN:VCALENDAR
VERSION:2.0
PRODID:-//FC1869//CS
BEGIN:VEVENT
DTSTAMP:20260419T132420Z
DTSTART:20230504T160000Z
DTEND:20230504T170000Z
SUMMARY:6. Blaničtí junáčci - FC FC
LOCATION:HANSP
UID:69e4d784a9f3f@FC1869
END:VEVENT
END:VCALENDAR