BEGIN:VCALENDAR
VERSION:2.0
PRODID:-//FC1869//CS
BEGIN:VEVENT
DTSTAMP:20260419T132333Z
DTSTART:20230504T171500Z
DTEND:20230504T181500Z
SUMMARY:6. Talismans - Lord Maguire
LOCATION:SANC1
UID:69e4d7553c8d9@FC1869
END:VEVENT
END:VCALENDAR