BEGIN:VCALENDAR
VERSION:2.0
PRODID:-//FC1869//CS
BEGIN:VEVENT
DTSTAMP:20260419T132444Z
DTSTART:20230511T171500Z
DTEND:20230511T181500Z
SUMMARY:6. Rychlí banáni - Měcholupská střeva
LOCATION:SANC1
UID:69e4d79c9f553@FC1869
END:VEVENT
END:VCALENDAR