BEGIN:VCALENDAR
VERSION:2.0
PRODID:-//FC1869//CS
BEGIN:VEVENT
DTSTAMP:20260419T132720Z
DTSTART:20230518T160000Z
DTEND:20230518T170000Z
SUMMARY:7. FC 1869 - Viktoria Bítovská B
LOCATION:SANC1
UID:69e4d838e6b29@FC1869
END:VEVENT
END:VCALENDAR