BEGIN:VCALENDAR
VERSION:2.0
PRODID:-//FC1869//CS
BEGIN:VEVENT
DTSTAMP:20260419T132807Z
DTSTART:20230518T161500Z
DTEND:20230518T171500Z
SUMMARY:7. FC FC - Deers FC
LOCATION:ARIT
UID:69e4d86794b24@FC1869
END:VEVENT
END:VCALENDAR